BEGIN:VCALENDAR
VERSION:2.0
PRODID:-//eventon.com NONSGML v1.0//EN
BEGIN:VEVENT
UID:69e8cb42e1f0a
DTSTAMP:20260422T152106
DTSTART:20230317T183000Z
DTEND:20230317T225000Z
TZID:Europe/Berlin
LOCATION:Landgasthof Kelzenberg - Jüchen\,  Keltenstraße 8\,  41363 Jüchen\,  Deutschland Landgasthof Kelzenberg - Jüchen\,  Keltenstraße 8\,  41363 Jüchen\,  Deutschland
SUMMARY:MSC O JHV Jahreshauptversammlung 2023
DESCRIPTION: MSC O JHV Jahreshauptversammlung 2023\nhttps://www.msc-odenkirchen.de/events/msc-o-jhv-jahreshauptversammlung/
URL:https://www.msc-odenkirchen.de/events/msc-o-jhv-jahreshauptversammlung/
END:VEVENT
END:VCALENDAR