BEGIN:VCALENDAR
VERSION:2.0
PRODID:-//eventon.com NONSGML v1.0//EN
BEGIN:VEVENT
UID:69e948d4c5fe0
DTSTAMP:20260423T001652
DTSTART:20220722
DTEND:20220722
TZID:Europe/Berlin
LOCATION:TÜV Neuss Derendorfweg\,  41460 Neuss
SUMMARY:XXX. ADAC/XXX Slalom
DESCRIPTION: Meisterschaft noch keine weiteren Infos vorhanden\nhttps://www.msc-odenkirchen.de/events/07-23-2022/
URL:https://www.msc-odenkirchen.de/events/07-23-2022/
END:VEVENT
END:VCALENDAR