BEGIN:VCALENDAR
VERSION:2.0
PRODID:-//eventon.com NONSGML v1.0//EN
BEGIN:VEVENT
UID:69eb839e5c01f
DTSTAMP:20260424T165214
DTSTART:20220630
DTEND:20220701
TZID:Europe/Berlin
LOCATION:Koblenz 
SUMMARY:Rallye ADAC Mittelrhein
DESCRIPTION: Rallye Deutsche Rallye-Meisterschaft ADAC Rallye Masters Saarländische ADAC Rallye Meisterschaft\nhttps://www.msc-odenkirchen.de/events/rallye-adac-mittelrhein/
URL:https://www.msc-odenkirchen.de/events/rallye-adac-mittelrhein/
END:VEVENT
END:VCALENDAR